BEGIN:VCALENDAR
VERSION:2.0
PRODID:-// - ECPv6.15.11//NONSGML v1.0//EN
CALSCALE:GREGORIAN
METHOD:PUBLISH
X-ORIGINAL-URL:https://ev-oe.ch
X-WR-CALDESC:Veranstaltungen im 
REFRESH-INTERVAL;VALUE=DURATION:PT1H
X-Robots-Tag:noindex
X-PUBLISHED-TTL:PT1H
BEGIN:VTIMEZONE
TZID:Europe/Zurich
BEGIN:DAYLIGHT
TZOFFSETFROM:+0100
TZOFFSETTO:+0200
TZNAME:CEST
DTSTART:20250330T010000
END:DAYLIGHT
BEGIN:STANDARD
TZOFFSETFROM:+0200
TZOFFSETTO:+0100
TZNAME:CET
DTSTART:20251026T010000
END:STANDARD
BEGIN:DAYLIGHT
TZOFFSETFROM:+0100
TZOFFSETTO:+0200
TZNAME:CEST
DTSTART:20260329T010000
END:DAYLIGHT
BEGIN:STANDARD
TZOFFSETFROM:+0200
TZOFFSETTO:+0100
TZNAME:CET
DTSTART:20261025T010000
END:STANDARD
BEGIN:DAYLIGHT
TZOFFSETFROM:+0100
TZOFFSETTO:+0200
TZNAME:CEST
DTSTART:20270328T010000
END:DAYLIGHT
BEGIN:STANDARD
TZOFFSETFROM:+0200
TZOFFSETTO:+0100
TZNAME:CET
DTSTART:20271031T010000
END:STANDARD
END:VTIMEZONE
BEGIN:VEVENT
DTSTART;TZID=Europe/Zurich:20261113T181500
DTEND;TZID=Europe/Zurich:20261113T203000
DTSTAMP:20260421T041744
CREATED:20250112T095302Z
LAST-MODIFIED:20260202T182153Z
UID:2510-1794593700-1794601800@ev-oe.ch
SUMMARY:Räbeliechtli-Umzug & Erzählnacht
DESCRIPTION:Räbeliechtli-Umzug\n\n\n\n \n\nWir suchen immer nach Helfern\, möchtest Du uns an diesem Event als Helfer unterstützen ? Klicke auf den Helfereinsatz Button um dich anzumelden :
URL:https://ev-oe.ch/event/raebeliechtli-umzug-3
LOCATION:Dorfplatz Oberengstringen\, Zentrum\, Oberengstringen\, 8102\, Switzerland
ATTACH;FMTTYPE=image/png:https://ev-oe.ch/wp-content/uploads/2025/10/chrome_lxM163zsOR.png
END:VEVENT
END:VCALENDAR