BEGIN:VCALENDAR
VERSION:2.0
PRODID:-// - ECPv6.15.11//NONSGML v1.0//EN
CALSCALE:GREGORIAN
METHOD:PUBLISH
X-ORIGINAL-URL:https://ev-oe.ch
X-WR-CALDESC:Veranstaltungen im 
REFRESH-INTERVAL;VALUE=DURATION:PT1H
X-Robots-Tag:noindex
X-PUBLISHED-TTL:PT1H
BEGIN:VTIMEZONE
TZID:Europe/Zurich
BEGIN:DAYLIGHT
TZOFFSETFROM:+0100
TZOFFSETTO:+0200
TZNAME:CEST
DTSTART:20240331T010000
END:DAYLIGHT
BEGIN:STANDARD
TZOFFSETFROM:+0200
TZOFFSETTO:+0100
TZNAME:CET
DTSTART:20241027T010000
END:STANDARD
BEGIN:DAYLIGHT
TZOFFSETFROM:+0100
TZOFFSETTO:+0200
TZNAME:CEST
DTSTART:20250330T010000
END:DAYLIGHT
BEGIN:STANDARD
TZOFFSETFROM:+0200
TZOFFSETTO:+0100
TZNAME:CET
DTSTART:20251026T010000
END:STANDARD
BEGIN:DAYLIGHT
TZOFFSETFROM:+0100
TZOFFSETTO:+0200
TZNAME:CEST
DTSTART:20260329T010000
END:DAYLIGHT
BEGIN:STANDARD
TZOFFSETFROM:+0200
TZOFFSETTO:+0100
TZNAME:CET
DTSTART:20261025T010000
END:STANDARD
END:VTIMEZONE
BEGIN:VEVENT
DTSTART;TZID=Europe/Zurich:20250517T090000
DTEND;TZID=Europe/Zurich:20250517T120000
DTSTAMP:20260422T104854
CREATED:20220604T094019Z
LAST-MODIFIED:20250402T094632Z
UID:795-1747472400-1747483200@ev-oe.ch
SUMMARY:Familien-Feuerwehrtag
DESCRIPTION:Liebe Eltern\n \nDie Feuerwehr Engstringen sowie die Elternvereine Unterengstringen und Oberengstringen laden euch auch dieses Jahr wieder herzlich zum Feuerwehrtag ein. \nDetails entnehmt ihr bitte dem Flyer. \n \nAnmeldung bitte bis zum 30.04.\n \nLiebe Grüsse\nCornelia\nOK-Feuerwehrtag\n  \n \n\n\n \n\n\n \n 
URL:https://ev-oe.ch/event/kinderfeuerwehr-tag
CATEGORIES:2022 Archiv
ATTACH;FMTTYPE=image/png:https://ev-oe.ch/wp-content/uploads/2022/06/Bildschirmfoto-2022-06-04-um-11.41.45.png
END:VEVENT
END:VCALENDAR